BEGIN:VCALENDAR
VERSION:2.0
PRODID:-//VuPSV Schloss Rathsberg-Erlangen e.V. - ECPv6.10.0//NONSGML v1.0//EN
CALSCALE:GREGORIAN
METHOD:PUBLISH
X-WR-CALNAME:VuPSV Schloss Rathsberg-Erlangen e.V.
X-ORIGINAL-URL:http://www.voltigieren-rathsberg.de/wp
X-WR-CALDESC:Veranstaltungen für VuPSV Schloss Rathsberg-Erlangen e.V.
REFRESH-INTERVAL;VALUE=DURATION:PT1H
X-Robots-Tag:noindex
X-PUBLISHED-TTL:PT1H
BEGIN:VTIMEZONE
TZID:Europe/Helsinki
BEGIN:DAYLIGHT
TZOFFSETFROM:+0200
TZOFFSETTO:+0300
TZNAME:EEST
DTSTART:20180325T010000
END:DAYLIGHT
BEGIN:STANDARD
TZOFFSETFROM:+0300
TZOFFSETTO:+0200
TZNAME:EET
DTSTART:20181028T010000
END:STANDARD
END:VTIMEZONE
BEGIN:VEVENT
DTSTART;VALUE=DATE:20180713
DTEND;VALUE=DATE:20180716
DTSTAMP:20260421T193207
CREATED:20180210T234213Z
LAST-MODIFIED:20180712T232505Z
UID:8129-1531440000-1531699199@www.voltigieren-rathsberg.de
SUMMARY:Bayerische Meisterschaften München-Riem\, 2. Sichtung DJM/DM
DESCRIPTION:Bayerische Meisterschaften München-Riem\, 2. Sichtung DJM/DM \n13.-15.07.2018 \nTeilnehmer: Ratsberg I\, Einzel\, Doppel \n \nZeiteinteilung:
URL:http://www.voltigieren-rathsberg.de/wp/event/bayerische-meisterschaften-muenchen-riem-2-sichtung-djm-dm/
LOCATION:Olympiareithalle München-Riem\, Landshamer Straße 11\, München\, Bayern\, 81929\, Deutschland
CATEGORIES:Doppel,Einzel,Meisterschaften,Rathsberg I,Turnier
ATTACH;FMTTYPE=image/jpeg:http://www.voltigieren-rathsberg.de/wp/wp-content/uploads/2015/07/news_2015_07_19_BM_1.jpg
END:VEVENT
END:VCALENDAR