BEGIN:VCALENDAR
VERSION:2.0
PRODID:-//VuPSV Schloss Rathsberg-Erlangen e.V. - ECPv6.10.0//NONSGML v1.0//EN
CALSCALE:GREGORIAN
METHOD:PUBLISH
X-WR-CALNAME:VuPSV Schloss Rathsberg-Erlangen e.V.
X-ORIGINAL-URL:https://www.voltigieren-rathsberg.de/wp
X-WR-CALDESC:Veranstaltungen für VuPSV Schloss Rathsberg-Erlangen e.V.
REFRESH-INTERVAL;VALUE=DURATION:PT1H
X-Robots-Tag:noindex
X-PUBLISHED-TTL:PT1H
BEGIN:VTIMEZONE
TZID:Europe/Berlin
BEGIN:DAYLIGHT
TZOFFSETFROM:+0100
TZOFFSETTO:+0200
TZNAME:CEST
DTSTART:20190331T010000
END:DAYLIGHT
BEGIN:STANDARD
TZOFFSETFROM:+0200
TZOFFSETTO:+0100
TZNAME:CET
DTSTART:20191027T010000
END:STANDARD
END:VTIMEZONE
BEGIN:VEVENT
DTSTART;VALUE=DATE:20190525
DTEND;VALUE=DATE:20190526
DTSTAMP:20260421T072930
CREATED:20190105T174901Z
LAST-MODIFIED:20190130T231102Z
UID:9390-1558742400-1558828799@www.voltigieren-rathsberg.de
SUMMARY:Voltigierturnier in Gerolfingen
DESCRIPTION:Voltigierturnier in Gerolfingen \n25.05.2019 \nTeilnehmer:
URL:https://www.voltigieren-rathsberg.de/wp/event/voltigierturnier-in-gerolfingen-2/
LOCATION:Reithalle Gerolfingen\, Am Riedling 9\, Gerolfingen\, Bayern\, 91726\, Deutschland
CATEGORIES:Rathsberg III,Turnier
ATTACH;FMTTYPE=image/jpeg:https://www.voltigieren-rathsberg.de/wp/wp-content/uploads/2016/05/portfolio_Gerolfingen_2016_05_07_11.jpg
END:VEVENT
END:VCALENDAR